BEGIN:VCALENDAR
VERSION:2.0
PRODID:-//kellogg.northwestern.edu///Outlook MIMEDIR//EN
X-WR-CALNAME: All Faculty Events
BEGIN:VEVENT
DTSTAMP:20260421T211600Z
DTSTART:20260203T191500Z
DTEND:20260203T203000Z
SUMMARY:Jon Guryan
X-ALT-DESC;FMTTYPE=text/html:Can Technology Facilitate Scale? Evidence from a Randomized Evaluation of High-Dosage Tutoring
DESCRIPTION:Can Technology Facilitate Scale? Evidence from a Randomized Evaluation of High-Dosage Tutoring
LOCATION:KGH 5101
SEQUENCE:0
UID:2f466300-3aa2-487a-970c-597c842f2a5b
END:VEVENT
END:VCALENDAR
