BEGIN:VCALENDAR
VERSION:2.0
PRODID:-//kellogg.northwestern.edu///Outlook MIMEDIR//EN
X-WR-CALNAME: All Faculty Events
BEGIN:VEVENT
DTSTAMP:20260421T012003Z
DTSTART:20190522T160000Z
DTEND:20190522T171500Z
SUMMARY:Pinar Yildirim
X-ALT-DESC;FMTTYPE=text/html:Automation, Job Losses, and Political Preferences
DESCRIPTION:Automation, Job Losses, and Political Preferences
LOCATION:Kellogg Global Hub 5301
SEQUENCE:0
UID:2f456a8f-03fc-498d-b109-1159a3f93487
END:VEVENT
END:VCALENDAR
