BEGIN:VCALENDAR
VERSION:2.0
PRODID:-//kellogg.northwestern.edu///Outlook MIMEDIR//EN
X-WR-CALNAME: All Faculty Events
BEGIN:VEVENT
DTSTAMP:20260421T032227Z
DTSTART:20191016T203000Z
DTEND:20191016T220000Z
SUMMARY:Geoffroy de Clippel
X-ALT-DESC;FMTTYPE=text/html:"Bargaining over Contingent Contracts under Incomplete Information"
DESCRIPTION:"Bargaining over Contingent Contracts under Incomplete Information"
LOCATION:Kellogg Global Hub 5101
SEQUENCE:0
UID:2d1ef242-ce66-4c0b-a00c-5a9417c7f37a
END:VEVENT
END:VCALENDAR
