BEGIN:VCALENDAR
VERSION:2.0
PRODID:-//kellogg.northwestern.edu///Outlook MIMEDIR//EN
X-WR-CALNAME: All Faculty Events
BEGIN:VEVENT
DTSTAMP:20260424T213120Z
DTSTART:20240402T171500Z
DTEND:20240402T181500Z
SUMMARY:Zhengyang Jiang
X-ALT-DESC;FMTTYPE=text/html:Quantitative Tightening with Slow-Moving Capital
DESCRIPTION:Quantitative Tightening with Slow-Moving Capital
LOCATION:Kellogg Global Hub KGH 4302
SEQUENCE:0
UID:2d004f49-ea12-4f8c-862e-26a64fd24aea
END:VEVENT
END:VCALENDAR
