BEGIN:VCALENDAR
VERSION:2.0
PRODID:-//kellogg.northwestern.edu///Outlook MIMEDIR//EN
X-WR-CALNAME: All Faculty Events
BEGIN:VEVENT
DTSTAMP:20260424T164642Z
DTSTART:20180926T183000Z
DTEND:20180926T200000Z
SUMMARY:Crystal Yang
X-ALT-DESC;FMTTYPE=text/html:“Fear and the Safety Net: Evidence from Secure Communities” 
DESCRIPTION:“Fear and the Safety Net: Evidence from Secure Communities” 
LOCATION:Kellogg Global Hub 4101
SEQUENCE:0
UID:2b96fb74-4212-4f0f-b514-4f9fc47738f8
END:VEVENT
END:VCALENDAR
