BEGIN:VCALENDAR
VERSION:2.0
PRODID:-//kellogg.northwestern.edu///Outlook MIMEDIR//EN
X-WR-CALNAME: All Faculty Events
BEGIN:VEVENT
DTSTAMP:20260421T011844Z
DTSTART:20190611T170500Z
DTEND:20190611T180500Z
SUMMARY:Xiaoyu Cheng
X-ALT-DESC;FMTTYPE=text/html:
DESCRIPTION:
LOCATION:Kellogg Global Hub 5301
SEQUENCE:0
UID:2a380b2e-64eb-479c-a58e-616c07e00083
END:VEVENT
END:VCALENDAR
