BEGIN:VCALENDAR
VERSION:2.0
PRODID:-//kellogg.northwestern.edu///Outlook MIMEDIR//EN
X-WR-CALNAME: All Faculty Events
BEGIN:VEVENT
DTSTAMP:20260421T133255Z
DTSTART:20240513T171500Z
DTEND:20240513T183000Z
SUMMARY:Political Econ Seminar - Matilde Bombardini
X-ALT-DESC;FMTTYPE=text/html:"Climate Politics in the United States"
DESCRIPTION:"Climate Politics in the United States"
LOCATION:Kellogg Global Hub 4101
SEQUENCE:0
UID:2a0d7755-1872-4d1d-a00e-5320ea53d43b
END:VEVENT
END:VCALENDAR
