BEGIN:VCALENDAR
VERSION:2.0
PRODID:-//kellogg.northwestern.edu///Outlook MIMEDIR//EN
X-WR-CALNAME: All Faculty Events
BEGIN:VEVENT
DTSTAMP:20260422T235158Z
DTSTART:20231129T180000Z
DTEND:20231129T193000Z
SUMMARY:Jasmine Hill
X-ALT-DESC;FMTTYPE=text/html:Self-, System- & Group-Blame: Black Working-Class Jobseekers' in the Precariat Economy
DESCRIPTION:Self-, System- & Group-Blame: Black Working-Class Jobseekers' in the Precariat Economy
LOCATION:Kellogg Global Hub 2420A&B/Zoom
SEQUENCE:0
UID:2936a348-d628-42b7-a66c-b9e8d44b6e2f
END:VEVENT
END:VCALENDAR
