BEGIN:VCALENDAR
VERSION:2.0
PRODID:-//kellogg.northwestern.edu///Outlook MIMEDIR//EN
X-WR-CALNAME: All Faculty Events
BEGIN:VEVENT
DTSTAMP:20260421T114006Z
DTSTART:20200603T183000Z
DTEND:20200603T194500Z
SUMMARY:Iván Marinovic
X-ALT-DESC;FMTTYPE=text/html:Title TBA
DESCRIPTION:Title TBA
LOCATION:Virtual Event
SEQUENCE:0
UID:290f85d9-05dd-4926-bb78-284e95ea86d4
END:VEVENT
END:VCALENDAR
