BEGIN:VCALENDAR
VERSION:2.0
PRODID:-//kellogg.northwestern.edu///Outlook MIMEDIR//EN
X-WR-CALNAME: All Faculty Events
BEGIN:VEVENT
DTSTAMP:20260421T070918Z
DTSTART:20160418T171500Z
DTEND:20160418T181500Z
SUMMARY:Sridhar Srinivasan
X-ALT-DESC;FMTTYPE=text/html:Title TBA
DESCRIPTION:Title TBA
LOCATION:Kellogg Global Hub 4101
SEQUENCE:0
UID:27d13ee2-b06e-43cb-b534-f439fe5f4a3d
END:VEVENT
END:VCALENDAR
