BEGIN:VCALENDAR
VERSION:2.0
PRODID:-//kellogg.northwestern.edu///Outlook MIMEDIR//EN
X-WR-CALNAME: All Faculty Events
BEGIN:VEVENT
DTSTAMP:20260422T013003Z
DTSTART:20250516T171000Z
DTEND:20250516T182500Z
SUMMARY:Behavioral Economics Seminar - Kevin Leyton-Brown
X-ALT-DESC;FMTTYPE=text/html:Assessing the Economic Rationality of Large Language Models
DESCRIPTION:Assessing the Economic Rationality of Large Language Models
LOCATION:Kellogg Global Hub 5101
SEQUENCE:0
UID:27aef4a2-1fb5-4ed4-b726-443dfe35167f
END:VEVENT
END:VCALENDAR
