BEGIN:VCALENDAR
VERSION:2.0
PRODID:-//kellogg.northwestern.edu///Outlook MIMEDIR//EN
X-WR-CALNAME: All Faculty Events
BEGIN:VEVENT
DTSTAMP:20260424T170631Z
DTSTART:20210518T170500Z
DTEND:20210518T060500Z
SUMMARY:Miguel Talamas
X-ALT-DESC;FMTTYPE=text/html:"David vs Goliath: Microenterprises’ Response to Entry of Large Firms"
DESCRIPTION:"David vs Goliath: Microenterprises’ Response to Entry of Large Firms"
LOCATION:Virtual Event
SEQUENCE:0
UID:25c77232-f044-476c-91ec-abde43514d27
END:VEVENT
END:VCALENDAR
