BEGIN:VCALENDAR
VERSION:2.0
PRODID:-//kellogg.northwestern.edu///Outlook MIMEDIR//EN
X-WR-CALNAME: All Faculty Events
BEGIN:VEVENT
DTSTAMP:20260424T173643Z
DTSTART:20221019T184500Z
DTEND:20221019T200000Z
SUMMARY:Moritz Meyer-ter-Vehn
X-ALT-DESC;FMTTYPE=text/html:Talk title: “Experimentation on Networks” joint with Simon Board
DESCRIPTION:Talk title: “Experimentation on Networks” joint with Simon Board
LOCATION:Kellogg Global Hub Rm 4101
SEQUENCE:0
UID:24351191-2587-4837-9733-dd96732b33d2
END:VEVENT
END:VCALENDAR
