BEGIN:VCALENDAR
VERSION:2.0
PRODID:-//kellogg.northwestern.edu///Outlook MIMEDIR//EN
X-WR-CALNAME: All Faculty Events
BEGIN:VEVENT
DTSTAMP:20260422T233915Z
DTSTART:20210603T170000Z
DTEND:20210603T183000Z
SUMMARY:Heidi Williams
X-ALT-DESC;FMTTYPE=text/html:Innovation Seminar Series
DESCRIPTION:Innovation Seminar Series
LOCATION:Virtual Event
SEQUENCE:0
UID:2376ddb5-2b5d-4381-bfbd-f1089a6fe3ef
END:VEVENT
END:VCALENDAR
