BEGIN:VCALENDAR
VERSION:2.0
PRODID:-//kellogg.northwestern.edu///Outlook MIMEDIR//EN
X-WR-CALNAME: All Faculty Events
BEGIN:VEVENT
DTSTAMP:20260419T162120Z
DTSTART:20240529T184500Z
DTEND:20240529T200000Z
SUMMARY:Koichiro Ito
X-ALT-DESC;FMTTYPE=text/html:"Choosing Who Chooses: Selection-Driven Targeting in Energy Rebate Programs"
DESCRIPTION:"Choosing Who Chooses: Selection-Driven Targeting in Energy Rebate Programs"
LOCATION:Kellogg Global Hub 4101, virtual option
SEQUENCE:0
UID:21e80615-2235-4e2f-8a4f-e552772fd47d
END:VEVENT
END:VCALENDAR
