BEGIN:VCALENDAR
VERSION:2.0
PRODID:-//kellogg.northwestern.edu///Outlook MIMEDIR//EN
X-WR-CALNAME: All Faculty Events
BEGIN:VEVENT
DTSTAMP:20260423T195519Z
DTSTART:20210922T184500Z
DTEND:20210825T200000Z
SUMMARY:David Chan
X-ALT-DESC;FMTTYPE=text/html:"Is There a VA Advantage? Evidence from Dually Eligible Veterans"
DESCRIPTION:"Is There a VA Advantage? Evidence from Dually Eligible Veterans"
LOCATION:Kellogg Global Hub KGH 4101
SEQUENCE:0
UID:218c3fd5-a3c2-407a-9f3f-cee03d20975c
END:VEVENT
END:VCALENDAR
