BEGIN:VCALENDAR
VERSION:2.0
PRODID:-//kellogg.northwestern.edu///Outlook MIMEDIR//EN
X-WR-CALNAME: All Faculty Events
BEGIN:VEVENT
DTSTAMP:20260421T154847Z
DTSTART:20180426T170000Z
DTEND:20180426T183000Z
SUMMARY:Sandra González-Bailón
X-ALT-DESC;FMTTYPE=text/html:"Networks and the Hidden Architecture of Collective Behavior"
DESCRIPTION:"Networks and the Hidden Architecture of Collective Behavior"
LOCATION:Kellogg Global Hub 5101
SEQUENCE:0
UID:20a275c3-ce17-41d2-a204-126a2b54164a
END:VEVENT
END:VCALENDAR
