BEGIN:VCALENDAR
VERSION:2.0
PRODID:-//kellogg.northwestern.edu///Outlook MIMEDIR//EN
X-WR-CALNAME: All Faculty Events
BEGIN:VEVENT
DTSTAMP:20260421T221216Z
DTSTART:20240207T163000Z
DTEND:20240207T180000Z
SUMMARY:Tove Forsbacka
X-ALT-DESC;FMTTYPE=text/html:"The Proxy Advice Industry and Common Owners' Coordination"
DESCRIPTION:"The Proxy Advice Industry and Common Owners' Coordination"
LOCATION:Kellogg Global Hub KGH 4101
SEQUENCE:0
UID:1f7e6742-af6f-40fa-9f35-227bf71e86a9
END:VEVENT
END:VCALENDAR
