BEGIN:VCALENDAR
VERSION:2.0
PRODID:-//kellogg.northwestern.edu///Outlook MIMEDIR//EN
X-WR-CALNAME: All Faculty Events
BEGIN:VEVENT
DTSTAMP:20260419T162820Z
DTSTART:20230405T183000Z
DTEND:20230405T200000Z
SUMMARY:Beth Blankespoor
X-ALT-DESC;FMTTYPE=text/html:Topic TBA
DESCRIPTION:Topic TBA
LOCATION:Kellogg Global Hub KGH 4302
SEQUENCE:0
UID:1f26ec28-ed9d-45b1-a662-079ea2eb75fa
END:VEVENT
END:VCALENDAR
