BEGIN:VCALENDAR
VERSION:2.0
PRODID:-//kellogg.northwestern.edu///Outlook MIMEDIR//EN
X-WR-CALNAME: All Faculty Events
BEGIN:VEVENT
DTSTAMP:20260424T015141Z
DTSTART:20210512T160000Z
DTEND:20210512T171500Z
SUMMARY:Adair Morse
X-ALT-DESC;FMTTYPE=text/html:"When cryptomining comes to town: High electricity-use spillovers to the local economy"
DESCRIPTION:"When cryptomining comes to town: High electricity-use spillovers to the local economy"
LOCATION:Virtual Event
SEQUENCE:0
UID:1d90be10-cdb8-4175-8757-8391ae9e1e71
END:VEVENT
END:VCALENDAR
