BEGIN:VCALENDAR
VERSION:2.0
PRODID:-//kellogg.northwestern.edu///Outlook MIMEDIR//EN
X-WR-CALNAME: All Faculty Events
BEGIN:VEVENT
DTSTAMP:20260421T101348Z
DTSTART:20170403T171500Z
DTEND:20170403T184500Z
SUMMARY:Elizabeth Pontikes
X-ALT-DESC;FMTTYPE=text/html:Construing Novelty: Category Boundaries and Venture Capital Investment in Entrepreneurs’ Recombination
DESCRIPTION:Construing Novelty: Category Boundaries and Venture Capital Investment in Entrepreneurs’ Recombination
LOCATION:Kellogg Global Hub 5101
SEQUENCE:0
UID:1d62cd6a-108a-45b2-8797-d5402c4fcd11
END:VEVENT
END:VCALENDAR
