BEGIN:VCALENDAR
VERSION:2.0
PRODID:-//kellogg.northwestern.edu///Outlook MIMEDIR//EN
X-WR-CALNAME: All Faculty Events
BEGIN:VEVENT
DTSTAMP:20260425T181002Z
DTSTART:20240515T184500Z
DTEND:20240515T200000Z
SUMMARY:Mar Reguant
X-ALT-DESC;FMTTYPE=text/html:Smart Rationing: Designing Electricity Blackout Policies for Extreme Events
DESCRIPTION:Smart Rationing: Designing Electricity Blackout Policies for Extreme Events
LOCATION:Kellogg Global Hub 4101, virtual option
SEQUENCE:0
UID:1cd08da2-ec94-4ff8-bee7-10611cba6e60
END:VEVENT
END:VCALENDAR
