BEGIN:VCALENDAR
VERSION:2.0
PRODID:-//kellogg.northwestern.edu///Outlook MIMEDIR//EN
X-WR-CALNAME: All Faculty Events
BEGIN:VEVENT
DTSTAMP:20260425T193638Z
DTSTART:20170426T170000Z
DTEND:20170426T180000Z
SUMMARY:Kostas Bimpikis
X-ALT-DESC;FMTTYPE=text/html:Spatial Pricing in Ride-Sharing Networks
DESCRIPTION:Spatial Pricing in Ride-Sharing Networks
LOCATION:Kellogg Global Hub 5101
SEQUENCE:0
UID:1c0b3b7c-16c0-4d84-b47d-7fc32959048a
END:VEVENT
END:VCALENDAR
