BEGIN:VCALENDAR
VERSION:2.0
PRODID:-//kellogg.northwestern.edu///Outlook MIMEDIR//EN
X-WR-CALNAME: All Faculty Events
BEGIN:VEVENT
DTSTAMP:20260424T100520Z
DTSTART:20180110T160000Z
DTEND:20180110T173000Z
SUMMARY:Adina D. Sterling
X-ALT-DESC;FMTTYPE=text/html:Taking the Longer Route: Tryouts and the Search Behavior of Structurally Disadvantaged Job–Seekers
DESCRIPTION:Taking the Longer Route: Tryouts and the Search Behavior of Structurally Disadvantaged Job–Seekers
LOCATION:Kellogg Global Hub 5101
SEQUENCE:0
UID:1bb881ee-40a6-412d-84c1-55c6c3600b7b
END:VEVENT
END:VCALENDAR
