BEGIN:VCALENDAR
VERSION:2.0
PRODID:-//kellogg.northwestern.edu///Outlook MIMEDIR//EN
X-WR-CALNAME: All Faculty Events
BEGIN:VEVENT
DTSTAMP:20260421T012154Z
DTSTART:20191206T181000Z
DTEND:20191206T192000Z
SUMMARY:Steve Tadelis
X-ALT-DESC;FMTTYPE=text/html:"Price Salience and Product Choice"
DESCRIPTION:"Price Salience and Product Choice"
LOCATION:Kellogg Global Hub 5101
SEQUENCE:0
UID:1b52c20e-2bda-4c68-9141-b98cdce68ee0
END:VEVENT
END:VCALENDAR
