BEGIN:VCALENDAR
VERSION:2.0
PRODID:-//kellogg.northwestern.edu///Outlook MIMEDIR//EN
X-WR-CALNAME: All Faculty Events
BEGIN:VEVENT
DTSTAMP:20260421T031304Z
DTSTART:20211130T181500Z
DTEND:20211130T191500Z
SUMMARY:Sun Yong Kim
X-ALT-DESC;FMTTYPE=text/html:"US Wealth Shares, the Dollar and the Global Price of Risk"
DESCRIPTION:"US Wealth Shares, the Dollar and the Global Price of Risk"
LOCATION:Kellogg Global Hub KGH 4101
SEQUENCE:0
UID:1a07d711-d1e7-4510-bc9b-e898a01715e7
END:VEVENT
END:VCALENDAR
