BEGIN:VCALENDAR
VERSION:2.0
PRODID:-//kellogg.northwestern.edu///Outlook MIMEDIR//EN
X-WR-CALNAME: All Faculty Events
BEGIN:VEVENT
DTSTAMP:20260421T221334Z
DTSTART:20240416T170000Z
DTEND:20240416T180000Z
SUMMARY:Milton Wang
X-ALT-DESC;FMTTYPE=text/html:A Study on the Rise of Chief Risk Officers in the Largest American Companies
DESCRIPTION:A Study on the Rise of Chief Risk Officers in the Largest American Companies
LOCATION:Kellogg Global Hub 5301/Zoom
SEQUENCE:0
UID:17aab8cb-b88b-4be7-9ece-24a4d1b59b6c
END:VEVENT
END:VCALENDAR
