BEGIN:VCALENDAR
VERSION:2.0
PRODID:-//kellogg.northwestern.edu///Outlook MIMEDIR//EN
X-WR-CALNAME: All Faculty Events
BEGIN:VEVENT
DTSTAMP:20260423T163650Z
DTSTART:20230601T171500Z
DTEND:20230601T181500Z
SUMMARY:Theory Brown Bag - Maria Betto
X-ALT-DESC;FMTTYPE=text/html:Talk Title Forthcoming
DESCRIPTION:Talk Title Forthcoming
LOCATION:Kellogg Global Hub 4101
SEQUENCE:0
UID:16578c96-8697-48da-a11f-5c801a1be18b
END:VEVENT
END:VCALENDAR
