BEGIN:VCALENDAR
VERSION:2.0
PRODID:-//kellogg.northwestern.edu///Outlook MIMEDIR//EN
X-WR-CALNAME: All Faculty Events
BEGIN:VEVENT
DTSTAMP:20260419T144820Z
DTSTART:20200304T170000Z
DTEND:20200304T181500Z
SUMMARY:Philip Strahan
X-ALT-DESC;FMTTYPE=text/html:"Bank Stress Testing: Public Interest or Regulatory Capture?"
DESCRIPTION:"Bank Stress Testing: Public Interest or Regulatory Capture?"
LOCATION:Kellogg Global Hub 4101
SEQUENCE:0
UID:15df64ad-307f-40e1-9a9a-b2da11052d04
END:VEVENT
END:VCALENDAR
