BEGIN:VCALENDAR
VERSION:2.0
PRODID:-//kellogg.northwestern.edu///Outlook MIMEDIR//EN
X-WR-CALNAME: All Faculty Events
BEGIN:VEVENT
DTSTAMP:20260421T221707Z
DTSTART:20191002T160000Z
DTEND:20191002T171500Z
SUMMARY:Xi Li
X-ALT-DESC;FMTTYPE=text/html: “Institutional ownership and labor-related misconduct:  Evidence from U.S. federal violations”
DESCRIPTION: “Institutional ownership and labor-related misconduct:  Evidence from U.S. federal violations”
LOCATION:Kellogg Global Hub 5301
SEQUENCE:0
UID:14fd4ad7-9922-49cb-9921-4cbe2d2d4164
END:VEVENT
END:VCALENDAR
