BEGIN:VCALENDAR
VERSION:2.0
PRODID:-//kellogg.northwestern.edu///Outlook MIMEDIR//EN
X-WR-CALNAME: All Faculty Events
BEGIN:VEVENT
DTSTAMP:20260421T095320Z
DTSTART:20250129T180000Z
DTEND:20250129T190000Z
SUMMARY:Jung Min Kim
X-ALT-DESC;FMTTYPE=text/html:Talking to hire: How small firms pave their way to hire when large firms lay off
DESCRIPTION:Talking to hire: How small firms pave their way to hire when large firms lay off
LOCATION:Kellogg Global Hub KGH 2410
SEQUENCE:0
UID:14f04f1e-733b-4eb0-9421-10fd1f90d0d8
END:VEVENT
END:VCALENDAR
