BEGIN:VCALENDAR
VERSION:2.0
PRODID:-//kellogg.northwestern.edu///Outlook MIMEDIR//EN
X-WR-CALNAME: All Faculty Events
BEGIN:VEVENT
DTSTAMP:20260419T100029Z
DTSTART:20251015T183000Z
DTEND:20251015T203000Z
SUMMARY:Ester Einhorn
X-ALT-DESC;FMTTYPE=text/html:The Good Idea Dilemma
DESCRIPTION:The Good Idea Dilemma
LOCATION:KGH 5301
SEQUENCE:0
UID:14451061-17cf-4eae-80ba-dbc2b4dce6a9
END:VEVENT
END:VCALENDAR
