BEGIN:VCALENDAR
VERSION:2.0
PRODID:-//kellogg.northwestern.edu///Outlook MIMEDIR//EN
X-WR-CALNAME: All Faculty Events
BEGIN:VEVENT
DTSTAMP:20260421T083238Z
DTSTART:20200603T184500Z
DTEND:20200603T200000Z
SUMMARY:Kathryn Shaw
X-ALT-DESC;FMTTYPE=text/html:
DESCRIPTION:
LOCATION:Kellogg Global Hub 4101
SEQUENCE:0
UID:123cf164-52b5-4737-90f6-2b9702fee34c
END:VEVENT
END:VCALENDAR
