BEGIN:VCALENDAR
VERSION:2.0
PRODID:-//kellogg.northwestern.edu///Outlook MIMEDIR//EN
X-WR-CALNAME: All Faculty Events
BEGIN:VEVENT
DTSTAMP:20260422T212129Z
DTSTART:20241030T160000Z
DTEND:20241030T171500Z
SUMMARY:Adam Guren
X-ALT-DESC;FMTTYPE=text/html:TBA
DESCRIPTION:TBA
LOCATION:Kellogg Global Hub KGH 5101
SEQUENCE:0
UID:10ae74b0-5540-4455-b612-c83a58334d8a
END:VEVENT
END:VCALENDAR
