BEGIN:VCALENDAR
VERSION:2.0
PRODID:-//kellogg.northwestern.edu///Outlook MIMEDIR//EN
X-WR-CALNAME: All Faculty Events
BEGIN:VEVENT
DTSTAMP:20260421T135158Z
DTSTART:20181211T180500Z
DTEND:20181211T190500Z
SUMMARY:Hossein Alidaee
X-ALT-DESC;FMTTYPE=text/html:
DESCRIPTION:
LOCATION:Kellogg Global Hub 4302
SEQUENCE:0
UID:10931be0-b449-40fd-aff2-c75c3b4be5b8
END:VEVENT
END:VCALENDAR
