BEGIN:VCALENDAR
VERSION:2.0
PRODID:-//kellogg.northwestern.edu///Outlook MIMEDIR//EN
X-WR-CALNAME: All Faculty Events
BEGIN:VEVENT
DTSTAMP:20260424T020615Z
DTSTART:20211103T170000Z
DTEND:20211103T181500Z
SUMMARY:Amandeep Singh
X-ALT-DESC;FMTTYPE=text/html:Network Externalities and Cross-Platform App Development in Mobile Platforms
DESCRIPTION:Network Externalities and Cross-Platform App Development in Mobile Platforms
LOCATION:Kellogg Global Hub TBD
SEQUENCE:0
UID:107cf00e-7ab9-4b7a-86f0-7ee8885fc776
END:VEVENT
END:VCALENDAR
