BEGIN:VCALENDAR
VERSION:2.0
PRODID:-//kellogg.northwestern.edu///Outlook MIMEDIR//EN
X-WR-CALNAME: All Faculty Events
BEGIN:VEVENT
DTSTAMP:20260421T235908Z
DTSTART:20210512T184500Z
DTEND:20210521T194500Z
SUMMARY:Petra Moser
X-ALT-DESC;FMTTYPE=text/html:"Women in Science: Lessons from the Baby Boom"
DESCRIPTION:"Women in Science: Lessons from the Baby Boom"
LOCATION:Virtual Event
SEQUENCE:0
UID:10494f79-d7a7-4f99-8eb9-5b1c81e4de97
END:VEVENT
END:VCALENDAR
