BEGIN:VCALENDAR
VERSION:2.0
PRODID:-//kellogg.northwestern.edu///Outlook MIMEDIR//EN
X-WR-CALNAME: All Faculty Events
BEGIN:VEVENT
DTSTAMP:20260424T025912Z
DTSTART:20240417T184500Z
DTEND:20240417T200000Z
SUMMARY:Jacopo Perego
X-ALT-DESC;FMTTYPE=text/html:"Competitive Markets for Personal Data"
DESCRIPTION:"Competitive Markets for Personal Data"
LOCATION:Kellogg Global Hub 4101, virtual option
SEQUENCE:0
UID:1010fbd5-8e7c-4ee1-85f7-58e4a485eadd
END:VEVENT
END:VCALENDAR
