BEGIN:VCALENDAR
VERSION:2.0
PRODID:-//kellogg.northwestern.edu///Outlook MIMEDIR//EN
X-WR-CALNAME: All Faculty Events
BEGIN:VEVENT
DTSTAMP:20260423T143935Z
DTSTART:20190528T170500Z
DTEND:20190528T180500Z
SUMMARY:Drew Fudenberg
X-ALT-DESC;FMTTYPE=text/html:
DESCRIPTION:
LOCATION:Kellogg Global Hub 5301
SEQUENCE:0
UID:0faba633-1730-47b8-a16d-8f89ee9d1c73
END:VEVENT
END:VCALENDAR
