BEGIN:VCALENDAR
VERSION:2.0
PRODID:-//kellogg.northwestern.edu///Outlook MIMEDIR//EN
X-WR-CALNAME: All Faculty Events
BEGIN:VEVENT
DTSTAMP:20260421T012154Z
DTSTART:20250226T180000Z
DTEND:20250226T190000Z
SUMMARY:Operations Seminar - Jing Dong
X-ALT-DESC;FMTTYPE=text/html:Learning to Bid in Multi-Unit Auctions: Applications in Emissions Trading Systems and Beyond
DESCRIPTION:Learning to Bid in Multi-Unit Auctions: Applications in Emissions Trading Systems and Beyond
LOCATION:Kellogg Global Hub 5301
SEQUENCE:0
UID:0f229268-81ee-4d75-8612-96e0a1e7e187
END:VEVENT
END:VCALENDAR
