BEGIN:VCALENDAR
VERSION:2.0
PRODID:-//kellogg.northwestern.edu///Outlook MIMEDIR//EN
X-WR-CALNAME: All Faculty Events
BEGIN:VEVENT
DTSTAMP:20260420T084427Z
DTSTART:20220316T160000Z
DTEND:20220316T171500Z
SUMMARY:Eli Ben-Michael
X-ALT-DESC;FMTTYPE=text/html:Safe Policy Learning through Extrapolation: Application to Pre-trial Risk Assessment
DESCRIPTION:Safe Policy Learning through Extrapolation: Application to Pre-trial Risk Assessment
LOCATION:Kellogg Global Hub 5101
SEQUENCE:0
UID:0e994c2c-af6d-41be-826b-a1a6ea6000ae
END:VEVENT
END:VCALENDAR
