BEGIN:VCALENDAR
VERSION:2.0
PRODID:-//kellogg.northwestern.edu///Outlook MIMEDIR//EN
X-WR-CALNAME: All Faculty Events
BEGIN:VEVENT
DTSTAMP:20260424T185617Z
DTSTART:20180503T171500Z
DTEND:20180503T181500Z
SUMMARY:Apoorv Gupta
X-ALT-DESC;FMTTYPE=text/html:"Local Demand, Financial Frictions and Prices: Evidence from India"
DESCRIPTION:"Local Demand, Financial Frictions and Prices: Evidence from India"
LOCATION:Kellogg Global Hub 4302
SEQUENCE:0
UID:0e65d899-ae0f-4115-8352-c51c8091f25b
END:VEVENT
END:VCALENDAR
