BEGIN:VCALENDAR
VERSION:2.0
PRODID:-//kellogg.northwestern.edu///Outlook MIMEDIR//EN
X-WR-CALNAME: All Faculty Events
BEGIN:VEVENT
DTSTAMP:20260421T101628Z
DTSTART:20250417T171500Z
DTEND:20250417T181500Z
SUMMARY:Theory Brown Bag - Annie Liang
X-ALT-DESC;FMTTYPE=text/html:Artificial Intelligence Clones
DESCRIPTION:Artificial Intelligence Clones
LOCATION:Kellogg Global Hub 4101
SEQUENCE:0
UID:0c8c22d3-56fe-4ca7-930c-622c16a5a9e6
END:VEVENT
END:VCALENDAR
