BEGIN:VCALENDAR
VERSION:2.0
PRODID:-//kellogg.northwestern.edu///Outlook MIMEDIR//EN
X-WR-CALNAME: All Faculty Events
BEGIN:VEVENT
DTSTAMP:20260421T155622Z
DTSTART:20191203T180500Z
DTEND:20191203T193500Z
SUMMARY:Victoria Marone
X-ALT-DESC;FMTTYPE=text/html:
DESCRIPTION:
LOCATION:Kellogg Global Hub 4302
SEQUENCE:0
UID:0a87100c-a0dc-49f0-83ca-33180e3aa448
END:VEVENT
END:VCALENDAR
