BEGIN:VCALENDAR
VERSION:2.0
PRODID:-//kellogg.northwestern.edu///Outlook MIMEDIR//EN
X-WR-CALNAME: All Faculty Events
BEGIN:VEVENT
DTSTAMP:20260421T081338Z
DTSTART:20170412T170000Z
DTEND:20170412T180000Z
SUMMARY:Dan Russo
X-ALT-DESC;FMTTYPE=text/html:Simple Bayesian Algorithms for Identifying the Best Arm in a Multi-armed Bandit
DESCRIPTION:Simple Bayesian Algorithms for Identifying the Best Arm in a Multi-armed Bandit
LOCATION:Kellogg Global Hub 5101
SEQUENCE:0
UID:0a030b22-cc37-4c0e-b042-ba74d0acaea7
END:VEVENT
END:VCALENDAR
