BEGIN:VCALENDAR
VERSION:2.0
PRODID:-//kellogg.northwestern.edu///Outlook MIMEDIR//EN
X-WR-CALNAME: All Faculty Events
BEGIN:VEVENT
DTSTAMP:20260422T140031Z
DTSTART:20200401T183000Z
DTEND:20200401T194500Z
SUMMARY:Stephen Penman
X-ALT-DESC;FMTTYPE=text/html:Title TBA
DESCRIPTION:Title TBA
LOCATION:Kellogg Global Hub TBA
SEQUENCE:0
UID:09f7771a-1561-4e59-b312-a761071b352b
END:VEVENT
END:VCALENDAR
