BEGIN:VCALENDAR
VERSION:2.0
PRODID:-//kellogg.northwestern.edu///Outlook MIMEDIR//EN
X-WR-CALNAME: All Faculty Events
BEGIN:VEVENT
DTSTAMP:20260424T061004Z
DTSTART:20231011T184500Z
DTEND:20231011T200000Z
SUMMARY:Michael Sinkinson
X-ALT-DESC;FMTTYPE=text/html:"Common Ownership and Competition in the Ready-To-Eat Cereal Industry"
DESCRIPTION:"Common Ownership and Competition in the Ready-To-Eat Cereal Industry"
LOCATION:Kellogg Global Hub 4101, virtual option
SEQUENCE:0
UID:095dbe34-c74d-4027-9a3a-00e36e33f3fa
END:VEVENT
END:VCALENDAR
