BEGIN:VCALENDAR
VERSION:2.0
PRODID:-//kellogg.northwestern.edu///Outlook MIMEDIR//EN
X-WR-CALNAME: All Faculty Events
BEGIN:VEVENT
DTSTAMP:20260424T225127Z
DTSTART:20191105T181500Z
DTEND:20191105T193000Z
SUMMARY:Joshua Lewis
X-ALT-DESC;FMTTYPE=text/html:"Prospective Outcome Bias: Incurring (Unnecessary) Costs to Achieve Outcomes That Are Already Likely"
DESCRIPTION:"Prospective Outcome Bias: Incurring (Unnecessary) Costs to Achieve Outcomes That Are Already Likely"
LOCATION:Kellogg Global Hub KGH 5101
SEQUENCE:0
UID:089d722a-6a81-4370-a77a-2fe62cfe9fb7
END:VEVENT
END:VCALENDAR
