BEGIN:VCALENDAR
VERSION:2.0
PRODID:-//kellogg.northwestern.edu///Outlook MIMEDIR//EN
X-WR-CALNAME: All Faculty Events
BEGIN:VEVENT
DTSTAMP:20260424T031917Z
DTSTART:20190403T160000Z
DTEND:20190403T171500Z
SUMMARY:Vikrant Vig
X-ALT-DESC;FMTTYPE=text/html:"The Political Economy of Decentralization: Evidence from Bank Bailouts"
DESCRIPTION:"The Political Economy of Decentralization: Evidence from Bank Bailouts"
LOCATION:Kellogg Global Hub 1110
SEQUENCE:0
UID:085383e8-62aa-4f97-a14c-ef56f19816a0
END:VEVENT
END:VCALENDAR
