BEGIN:VCALENDAR
VERSION:2.0
PRODID:-//kellogg.northwestern.edu///Outlook MIMEDIR//EN
X-WR-CALNAME: All Faculty Events
BEGIN:VEVENT
DTSTAMP:20260422T001240Z
DTSTART:20250519T190000Z
DTEND:20250519T201500Z
SUMMARY:Lav Varshney
X-ALT-DESC;FMTTYPE=text/html:Engineering Theory for Emerging Tech Strategy and Policy
DESCRIPTION:Engineering Theory for Emerging Tech Strategy and Policy
LOCATION:Kellogg Global Hub 4101 or Zoom
SEQUENCE:0
UID:08109704-3093-4939-9cac-782b242cc7bb
END:VEVENT
END:VCALENDAR
